BEGIN:VCALENDAR
VERSION:2.0
PRODID:-//eventon.com NONSGML v1.0//EN
CALSCALE:GREGORIAN
METHOD:PUBLISH
BEGIN:VEVENT
UID:69e50690e307b
DTSTAMP:20260419T164504Z
DTSTART:20260705T030000Z
DTEND:20260705T030000Z
LOCATION:
SUMMARY:Zomerconcert
DESCRIPTION:Zomerconcert\nhttps://hamseconcertband.be/events/zomerconcert-2
 /
URL:https://hamseconcertband.be/events/zomerconcert-2/
END:VEVENT
END:VCALENDAR